BEGIN:VCALENDAR
VERSION:2.0
PRODID:-//ChamberMaster//Event Calendar 2.0//EN
METHOD:PUBLISH
X-PUBLISHED-TTL:P3D
REFRESH-INTERVAL:P3D
CALSCALE:GREGORIAN
BEGIN:VEVENT
DTSTART:20110723T140000Z
DTEND:20110723T170000Z
X-MICROSOFT-CDO-ALLDAYEVENT:FALSE
SUMMARY:Q & A with UT Extension
DESCRIPTION:"What's Bugging You?" Garr's Rental and Feed in Mt. Juliet will host a question and answer session with UT Extension Agent Justin Stefanski.  Homeowners are invited to bring their horticultural questions--from how to eliminate insects in the garden to how to prune roses.  The free session will begin at 9:00 AM and conclude at noon.
X-ALT-DESC;FMTTYPE=text/html:"What's Bugging You?" Garr's Rental and Feed in Mt. Juliet will host a question and answer session with UT Extension Agent Justin Stefanski.  Homeowners are invited to bring their horticultural questions--from how to eliminate insects in the garden to how to prune roses.  The free session will begin at 9:00 AM and conclude at noon.
LOCATION:Garr's Rental and Feed 11620 Lebanon Road Mt. Juliet\, TN
UID:e.2544.76
SEQUENCE:3
DTSTAMP:20260420T113434Z
URL:https://business.mjchamber.org/events/details/q-a-with-ut-extension-07-23-2011-76
END:VEVENT

END:VCALENDAR
