BEGIN:VCALENDAR
VERSION:2.0
PRODID:-//ChamberMaster//Event Calendar 2.0//EN
METHOD:PUBLISH
X-PUBLISHED-TTL:P3D
REFRESH-INTERVAL:P3D
CALSCALE:GREGORIAN
BEGIN:VEVENT
DTSTART:20120615T160000Z
DTEND:20120615T190000Z
X-MICROSOFT-CDO-ALLDAYEVENT:FALSE
SUMMARY:Re-Discover Mt Juliet Rd Cookout
DESCRIPTION:To celebrate the Re-Opening of N Mt Juliet Road US Community Credit Union would like to invite you to a Re-Discover N Mt Juliet Rd Cookout.  Come out on June 15th from 11:00 am to 2:00 pm and grab a hot dog\, chips and a drink while getting your MJ BINGO card stamped by US Community Credit Union\, Dragonfly Consignment and Sparkling Tiara.
X-ALT-DESC;FMTTYPE=text/html:To celebrate the Re-Opening of N Mt Juliet Road US Community Credit Union would like to invite you to a Re-Discover N Mt Juliet Rd Cookout.  Come out on June 15th from 11:00 am to 2:00 pm and grab a hot dog\, chips and a drink while getting your MJ BINGO card stamped by US Community Credit Union\, Dragonfly Consignment and Sparkling Tiara. 
LOCATION:2700 N Mt Juliet Rd\, Mount Juliet TN\, TN 37122 US Community Credit Union
UID:e.2544.299
SEQUENCE:3
DTSTAMP:20260419T165957Z
URL:https://business.mjchamber.org/events/details/re-discover-mt-juliet-rd-cookout-06-15-2012-299
END:VEVENT

END:VCALENDAR
