BEGIN:VCALENDAR
VERSION:2.0
PRODID:-//ChamberMaster//Event Calendar 2.0//EN
METHOD:PUBLISH
X-PUBLISHED-TTL:P3D
REFRESH-INTERVAL:P3D
CALSCALE:GREGORIAN
BEGIN:VEVENT
DTSTART:20220511T153000Z
DTEND:20220511T170000Z
X-MICROSOFT-CDO-ALLDAYEVENT:FALSE
SUMMARY:Real Estate Agent Lunch and Learn
DESCRIPTION:How to Build A Real Estate Portfolio to Replace Your Real Estate Career! Real Estate Investment expert\, Matt Atkinson\, IS BACK! He will share strategies on building your real estate portfolio. Matt owns more than 99 properties valued at $20+ million. He is the founder of MJA Consulting and President of the Utah Valley Real Estate Investors Association.
X-ALT-DESC;FMTTYPE=text/html:How to Build A Real Estate Portfolio to Replace Your Real Estate Career! Real Estate Investment expert\, Matt Atkinson\, IS BACK! He will share strategies on building your real estate portfolio. Matt owns more than 99 properties valued at $20+ million. He is the founder of MJA Consulting and President of the Utah Valley Real Estate Investors Association.
LOCATION:In Person: Mt. Juliet Chamber of Commerce\, Suite 200 Virtual on Zoom
UID:e.2544.11166
SEQUENCE:3
DTSTAMP:20260424T045733Z
URL:https://business.mjchamber.org/events/details/real-estate-agent-lunch-and-learn-11166
END:VEVENT

END:VCALENDAR
