BEGIN:VCALENDAR
VERSION:2.0
PRODID:-//ChamberMaster//Event Calendar 2.0//EN
METHOD:PUBLISH
X-PUBLISHED-TTL:P3D
REFRESH-INTERVAL:P3D
CALSCALE:GREGORIAN
BEGIN:VEVENT
DTSTART:20211014T233000Z
DTEND:20211015T010000Z
X-MICROSOFT-CDO-ALLDAYEVENT:FALSE
SUMMARY:Reality: A Night With Nick Wilson- Trauma\, Resilience and Issues Facing Law Enforcement Today
DESCRIPTION:Cumberland University is proud to welcome the founder of the Resiliency Project and retired officer of 13 years Nick Wilson to campus for the first event in a year-long Criminal Justice and Psychology Speaker Series. Law enforcement and first responders from across Middle Tennessee\, along with the general public\, are invited to attend "Reality: A Night with Nick Wilson" in Alumni Hall on Oct. 14 at 6:30 p.m.\, where he will discuss trauma\, resilience and issues facing law enforcement today.
X-ALT-DESC;FMTTYPE=text/html:Cumberland University is proud to welcome the founder of the Resiliency Project and retired officer of 13 years Nick Wilson to campus for the first event in a year-long Criminal Justice and Psychology Speaker Series. Law enforcement and first responders from across Middle Tennessee\, along with the general public\, are invited to attend &ldquo\;Reality: A Night with Nick Wilson&rdquo\; in Alumni Hall on Oct. 14 at 6:30 p.m.\, where he will discuss trauma\, resilience and issues facing law enforcement today.
LOCATION:212 Leeville Pike\, Lebanon\, TN 37087
UID:e.2544.10283
SEQUENCE:3
DTSTAMP:20260424T161908Z
URL:https://business.mjchamber.org/events/details/reality-a-night-with-nick-wilson-trauma-resilience-and-issues-facing-law-enforcement-today-10283
END:VEVENT

END:VCALENDAR
