BEGIN:VCALENDAR
VERSION:2.0
PRODID:-//ChamberMaster//Event Calendar 2.0//EN
METHOD:PUBLISH
X-PUBLISHED-TTL:P3D
REFRESH-INTERVAL:P3D
CALSCALE:GREGORIAN
BEGIN:VEVENT
DTSTART:20220416T150000Z
DTEND:20220416T190000Z
X-MICROSOFT-CDO-ALLDAYEVENT:FALSE
SUMMARY:Resource Fair
DESCRIPTION:Here it is! All under one location! Resource Day! Are you struggling with: Your rent? Electric Bill? Food? Employment? In-home support for your family? Look no further! April 16th from 10am-2pm Jesus Provisions Ministries and Care Center in conjunction with Mid-Cumberland Community Action Agency\, Nurture the Next\, Goodwill Industries International\, Compassionate Hands and Amazon.com will hold a resource day where struggling families can get assistance they need! Go to www.jesusprovisions.org to sign up today! Slots will fill up fast!
X-ALT-DESC;FMTTYPE=text/html:Here it is! All under one location! Resource Day! Are you struggling with: Your rent? Electric Bill? Food? Employment? In-home support for your family? Look no further! April 16th from 10am-2pm Jesus Provisions Ministries and Care Center in conjunction with Mid-Cumberland Community Action Agency\, Nurture the Next\, Goodwill Industries International\, Compassionate Hands and Amazon.com will hold a resource day where struggling families can get assistance they need! Go to www.jesusprovisions.org to sign up today! Slots will fill up fast!
LOCATION:505 Sunset Ct Mt Juliet Tn 37122
UID:e.2544.10971
SEQUENCE:3
DTSTAMP:20260424T050125Z
URL:https://business.mjchamber.org/events/details/resource-fair-10971
END:VEVENT

END:VCALENDAR
