BEGIN:VCALENDAR
VERSION:2.0
PRODID:-//ChamberMaster//Event Calendar 2.0//EN
METHOD:PUBLISH
X-PUBLISHED-TTL:P3D
REFRESH-INTERVAL:P3D
CALSCALE:GREGORIAN
BEGIN:VEVENT
DTSTART;VALUE=DATE:20220722
DTEND;VALUE=DATE:20220725
TRANSP:TRANSPARENT
X-MICROSOFT-CDO-ALLDAYEVENT:TRUE
SUMMARY:Restore Hyper Wellness - Hydration Station Event
DESCRIPTION:Restore Hyperwellness is having an event based around hydration during these hot summer months! We will be offering discounts on our IV drips as well as our Hydrafacials! $25 off for pre booking an appointment $25 off if you bring a friend for their first time IV. $50 off premium and platinum hydrafacial's.
X-ALT-DESC;FMTTYPE=text/html:Restore Hyperwellness is having an event based around hydration during these hot summer months! We will be offering discounts on our IV drips as well as our Hydrafacials! $25 off for pre booking an appointment $25 off if you bring a friend for their first time IV. $50 off premium and platinum hydrafacial&rsquo\;s.
LOCATION:Restore Hyper Wellness - Mt. Juliet 401 S. Mt. Juliet Rd. St 131 Mt Juliet\, TN 37122
UID:e.2544.11702
SEQUENCE:3
DTSTAMP:20260423T231507Z
URL:https://business.mjchamber.org/events/details/restore-hyper-wellness-hydration-station-event-11702
END:VEVENT

END:VCALENDAR
