BEGIN:VCALENDAR
VERSION:2.0
PRODID:-//ChamberMaster//Event Calendar 2.0//EN
METHOD:PUBLISH
X-PUBLISHED-TTL:P3D
REFRESH-INTERVAL:P3D
CALSCALE:GREGORIAN
BEGIN:VEVENT
DTSTART:20220818T163000Z
DTEND:20220818T170000Z
X-MICROSOFT-CDO-ALLDAYEVENT:FALSE
SUMMARY:Ribbon Cutting
DESCRIPTION:Come celebrate the Ribbon Cutting to unveil the new sign commemorating the name change of our famed MJ Little League Park on Lebanon Road. \n\n\n\nEveryone is welcome! \n\n \n\n*Please be sure to check the calendar the day of\, for possible changes or cancellations.
X-ALT-DESC;FMTTYPE=text/html:<div style="text-align: center\;"><span style="text-align: center\; font-family: verdana\;"><span style="font-size: 20px\;"><strong style="font-size: 14px\;"><span style="font-size: 26px\;"><span background-color:="" font-size:="" text-align:="" trebuchet="">Come celebrate the Ribbon Cutting to unveil the new sign commemorating the name change of our famed MJ Little League Park on Lebanon Road.&nbsp\;</span></span><br />\n<br />\n<span style="text-align: justify\;"><span style="font-size: 26px\;">Everyone is welcome!</span>&nbsp\;</span></strong></span></span><br />\n&nbsp\;</div>\n\n<div style="text-align: center\;"><span style="text-align: center\; font-size: 16px\;"><strong><span style="color: rgb(0\, 0\, 0)\;"><span style="font-family: verdana\;">*Please be sure to check the calendar the day of\, for possible changes or cancellations.&nbsp\;</span></span></strong></span></div>\n
LOCATION:
UID:e.2544.11707
SEQUENCE:3
DTSTAMP:20260424T011339Z
URL:https://business.mjchamber.org/events/details/ribbon-cutting-11707
END:VEVENT

END:VCALENDAR
