BEGIN:VCALENDAR
VERSION:2.0
PRODID:-//ChamberMaster//Event Calendar 2.0//EN
METHOD:PUBLISH
X-PUBLISHED-TTL:P3D
REFRESH-INTERVAL:P3D
CALSCALE:GREGORIAN
BEGIN:VEVENT
DTSTART:20220916T163000Z
DTEND:20220916T170000Z
X-MICROSOFT-CDO-ALLDAYEVENT:FALSE
SUMMARY:Ribbon-Cutting~Gracie Barra Mt. Juliet
DESCRIPTION:Come celebrate the Ribbon Cutting for Gracie Barra Mt. Juliet!\n\n\n\nEveryone is welcome! \n\n\n\n\n\n*Please be sure to check the calendar the day of\, for possible changes or cancellations.
X-ALT-DESC;FMTTYPE=text/html:<p style="text-align: center\;"><br />\n<span style="font-family: verdana\;"><span style="font-size: 20px\;"><strong style="font-size: 14px\;"><span style="font-size: 26px\;"><span background-color:="" font-size:="" text-align:="" trebuchet="">Come celebrate the Ribbon Cutting for Gracie Barra Mt. Juliet!</span></span><br />\n<br />\n<span style="text-align: justify\;"><span style="font-size: 26px\;">Everyone is welcome!</span>&nbsp\;</span></strong></span></span><br />\n<br />\n<br />\n<span style="font-size: 16px\;"><strong><span style="color: rgb(0\, 0\, 0)\;"><span style="font-family: verdana\;">*Please be sure to check the calendar the day of\, for possible changes or cancellations.&nbsp\;</span></span></strong></span></p>\n
LOCATION:1754 North Mt. Juliet Road
UID:e.2544.11734
SEQUENCE:3
DTSTAMP:20260424T050822Z
URL:https://business.mjchamber.org/events/details/ribbon-cutting-gracie-barra-mt-juliet-11734
END:VEVENT

END:VCALENDAR
