BEGIN:VCALENDAR
VERSION:2.0
PRODID:-//ChamberMaster//Event Calendar 2.0//EN
METHOD:PUBLISH
X-PUBLISHED-TTL:P3D
REFRESH-INTERVAL:P3D
CALSCALE:GREGORIAN
BEGIN:VEVENT
DTSTART:20220831T163000Z
DTEND:20220831T170000Z
X-MICROSOFT-CDO-ALLDAYEVENT:FALSE
SUMMARY:Ribbon-Cutting~VIP Weight Loss\, Anti-Aging and Quick Care
DESCRIPTION:Come celebrate the Ribbon Cutting for VIP Weight Loss\, Anti-Aging & Quick Care Mt. Juliet!\n\n\n\nEveryone is welcome! \n\n\n\n\n\n*Please be sure to check the calendar the day of\, for possible changes or cancellations.
X-ALT-DESC;FMTTYPE=text/html:<div style="text-align: center\;"><br style="text-align: center\;" />\n<span style="text-align: center\; font-family: verdana\;"><span style="font-size: 20px\;"><strong style="font-size: 14px\;"><span style="font-size: 26px\;"><span background-color:="" font-size:="" text-align:="" trebuchet="">Come celebrate the Ribbon Cutting for VIP Weight Loss\, Anti-Aging &amp\; Quick Care Mt. Juliet!</span></span><br />\n<br />\n<span style="text-align: justify\;"><span style="font-size: 26px\;">Everyone is welcome!</span>&nbsp\;</span></strong></span></span><br style="text-align: center\;" />\n<br style="text-align: center\;" />\n<br style="text-align: center\;" />\n<span style="text-align: center\; font-size: 16px\;"><strong><span style="color: rgb(0\, 0\, 0)\;"><span style="font-family: verdana\;">*Please be sure to check the calendar the day of\, for possible changes or cancellations.&nbsp\;</span></span></strong></span></div>\n
LOCATION:1400 N. Mt. Juliet Road Suite 104 Mt. Juliet\, Tn. 37122
UID:e.2544.11739
SEQUENCE:3
DTSTAMP:20260424T012336Z
URL:https://business.mjchamber.org/events/details/ribbon-cutting-vip-weight-loss-anti-aging-and-quick-care-11739
END:VEVENT

END:VCALENDAR
