BEGIN:VCALENDAR
VERSION:2.0
PRODID:-//ChamberMaster//Event Calendar 2.0//EN
METHOD:PUBLISH
X-PUBLISHED-TTL:P3D
REFRESH-INTERVAL:P3D
CALSCALE:GREGORIAN
BEGIN:VEVENT
DTSTART:20210825T140000Z
DTEND:20210825T180000Z
X-MICROSOFT-CDO-ALLDAYEVENT:FALSE
SUMMARY:Salute to Veterans Job Fairs
DESCRIPTION:Now Hiring for: Healthcare\, Logistics\, Retail\, Customer Service\, Production and more... On-site interviewing\, possibility of same day hire. Bring copies of your resume and your award winning attitude.
X-ALT-DESC;FMTTYPE=text/html:Now Hiring for: Healthcare\, Logistics\, Retail\, Customer Service\, Production and more... On-site interviewing\, possibility of same day hire. Bring copies of your resume and your award winning attitude.
LOCATION:Lebanon Outlet Mall (food court) 1 Outlet Village Blvd\, Lebanon\, TN 37090
UID:e.2544.10215
SEQUENCE:3
DTSTAMP:20260424T182813Z
URL:https://business.mjchamber.org/events/details/salute-to-veterans-job-fairs-10215
END:VEVENT

END:VCALENDAR
