BEGIN:VCALENDAR
VERSION:2.0
PRODID:-//ChamberMaster//Event Calendar 2.0//EN
METHOD:PUBLISH
X-PUBLISHED-TTL:P3D
REFRESH-INTERVAL:P3D
CALSCALE:GREGORIAN
BEGIN:VEVENT
DTSTART:20230423T183000Z
DTEND:20230423T210000Z
X-MICROSOFT-CDO-ALLDAYEVENT:FALSE
SUMMARY:School of Rock End of Season Show
DESCRIPTION:Come out and support the amazing the kids involved in the School of Rock Mt Juliet Performance Program at the Tin Roof on Broadway: Rock 101: 1:30pm Rock 102: British Invasion: 2:10pm 90's Rock: 2:45pm
X-ALT-DESC;FMTTYPE=text/html:Come out and support the amazing the kids involved in the School of Rock Mt Juliet Performance Program at the Tin Roof on Broadway: Rock 101: 1:30pm Rock 102: British Invasion: 2:10pm 90&#39\;s Rock: 2:45pm
LOCATION:Tin Roof on Broadway
UID:e.2544.12260
SEQUENCE:3
DTSTAMP:20260423T090858Z
URL:https://business.mjchamber.org/events/details/school-of-rock-end-of-season-show-12260
END:VEVENT

END:VCALENDAR
