BEGIN:VCALENDAR
VERSION:2.0
PRODID:-//ChamberMaster//Event Calendar 2.0//EN
METHOD:PUBLISH
X-PUBLISHED-TTL:P3D
REFRESH-INTERVAL:P3D
CALSCALE:GREGORIAN
BEGIN:VEVENT
DTSTART:20220525T153000Z
DTEND:20220525T180000Z
X-MICROSOFT-CDO-ALLDAYEVENT:FALSE
SUMMARY:Senior Health and Wellness Fair
DESCRIPTION:May 25th is National Healthy Senior Day. Stop by RISE Fitness to celebrate being 55+! This event will include representatives from health and beauty services\, door prizes\, local food and samples\, entertainment and so much more!
X-ALT-DESC;FMTTYPE=text/html:May 25th is National Healthy Senior Day. Stop by RISE Fitness to celebrate being 55+! This event will include representatives from health and beauty services\, door prizes\, local food and samples\, entertainment and so much more!
LOCATION:RISE Fitness 2728 N. Mt Juliet Road Mount Juliet\, TN 37122
UID:e.2544.11164
SEQUENCE:3
DTSTAMP:20260424T025635Z
URL:https://business.mjchamber.org/events/details/senior-health-and-wellness-fair-11164
END:VEVENT

END:VCALENDAR
