BEGIN:VCALENDAR
VERSION:2.0
PRODID:-//ChamberMaster//Event Calendar 2.0//EN
METHOD:PUBLISH
X-PUBLISHED-TTL:P3D
REFRESH-INTERVAL:P3D
CALSCALE:GREGORIAN
BEGIN:VEVENT
DTSTART:20210920T120000Z
DTEND:20210921T010000Z
X-MICROSOFT-CDO-ALLDAYEVENT:FALSE
SUMMARY:Shelby Hickman Golf Scramble Benefiting Empower Me Center
DESCRIPTION:Golf Scramble and Auction Benefiting Empower Me Center. Hosted by Susan and Joey Hickman. Lunch\, Dinner & Live Auction Included
X-ALT-DESC;FMTTYPE=text/html:Golf Scramble and Auction Benefiting Empower Me Center. Hosted by Susan and Joey Hickman. Lunch\, Dinner &amp\; Live Auction Included
LOCATION:Old Hickory Country Club 204 Downeymeade Drive Nashville\, TN 37214
UID:e.2544.10204
SEQUENCE:3
DTSTAMP:20260424T175828Z
URL:https://business.mjchamber.org/events/details/shelby-hickman-golf-scramble-benefiting-empower-me-center-10204
END:VEVENT

END:VCALENDAR
