BEGIN:VCALENDAR
VERSION:2.0
PRODID:-//ChamberMaster//Event Calendar 2.0//EN
METHOD:PUBLISH
X-PUBLISHED-TTL:P3D
REFRESH-INTERVAL:P3D
CALSCALE:GREGORIAN
BEGIN:VEVENT
DTSTART;VALUE=DATE:20220829
DTEND;VALUE=DATE:20220830
TRANSP:TRANSPARENT
X-MICROSOFT-CDO-ALLDAYEVENT:TRUE
SUMMARY:Shelby Hickman Memorial Celebrity Golf Scramble
DESCRIPTION:The Shelby Foundation is happy to be teeing it up\, August 29th\, for Empower Me Center! The Shelby Hickman Memorial Celebrity Golf Scramble will be at Old Hickory Country Club with morning and afternoon flights. Our organization is planning an amazing golf experience for the supporters of Empower Me Center with a celebrity playing on each team\, amazing prizes\, lunch & dinner and a live and silent auction!
X-ALT-DESC;FMTTYPE=text/html:The Shelby Foundation is happy to be teeing it up\, August 29th\, for Empower Me Center! The Shelby Hickman Memorial Celebrity Golf Scramble will be at Old Hickory Country Club with morning and afternoon flights. Our organization is planning an amazing golf experience for the supporters of Empower Me Center with a celebrity playing on each team\, amazing prizes\, lunch &amp\; dinner and a live and silent auction!
LOCATION:Old Hickory Country Club
UID:e.2544.11697
SEQUENCE:3
DTSTAMP:20260423T231811Z
URL:https://business.mjchamber.org/events/details/shelby-hickman-memorial-celebrity-golf-scramble-11697
END:VEVENT

END:VCALENDAR
