BEGIN:VCALENDAR
VERSION:2.0
PRODID:-//ChamberMaster//Event Calendar 2.0//EN
METHOD:PUBLISH
X-PUBLISHED-TTL:P3D
REFRESH-INTERVAL:P3D
CALSCALE:GREGORIAN
BEGIN:VEVENT
DTSTART:20210911T130000Z
DTEND:20210911T170000Z
X-MICROSOFT-CDO-ALLDAYEVENT:FALSE
SUMMARY:Sherry's Run 5K Run/Walk to benefit Sherry's Hope
DESCRIPTION:The Sherry's Run 5K Run/Walk to benefit Sherry's Hope is Saturday\, September 11th at 8 am at 623 West Main Street\, Lebanon. Register now at www.sherrysrun.org Event and chip timed registrations are available. The Sherry's Run 5K is the largest fundraiser for Sherry's Hope. Sherry's Hope assists families in Wilson County and surrounding communities who are experiencing a financial hardship due to a cancer diagnosis and treatment.
X-ALT-DESC;FMTTYPE=text/html:The Sherry&#39\;s Run 5K Run/Walk to benefit Sherry&#39\;s Hope is Saturday\, September 11th at 8 am at 623 West Main Street\, Lebanon. Register now at www.sherrysrun.org Event and chip timed registrations are available. The Sherry&#39\;s Run 5K is the largest fundraiser for Sherry&#39\;s Hope. Sherry&#39\;s Hope assists families in Wilson County and surrounding communities who are experiencing a financial hardship due to a cancer diagnosis and treatment.
LOCATION:623 West Main Street\, Lebanon
UID:e.2544.10080
SEQUENCE:3
DTSTAMP:20260424T175659Z
URL:https://business.mjchamber.org/events/details/sherry-s-run-5k-run-walk-to-benefit-sherry-s-hope-10080
END:VEVENT

END:VCALENDAR
