BEGIN:VCALENDAR
VERSION:2.0
PRODID:-//ChamberMaster//Event Calendar 2.0//EN
METHOD:PUBLISH
X-PUBLISHED-TTL:P3D
REFRESH-INTERVAL:P3D
CALSCALE:GREGORIAN
BEGIN:VEVENT
DTSTART:20220407T210000Z
DTEND:20220408T010000Z
X-MICROSOFT-CDO-ALLDAYEVENT:FALSE
SUMMARY:Shop Late at The Basement Marketplace
DESCRIPTION:Join us this Thursday for our Shop Late Event! We will have several vendors on hand demonstrating their products along with yummy samples! It's a fun evening to get out with friends enjoy some wine and do a little shopping. Plus watch for the pink signs to get a percentage off your purchase.
X-ALT-DESC;FMTTYPE=text/html:Join us this Thursday for our Shop Late Event! We will have several vendors on hand demonstrating their products along with yummy samples! It&#39\;s a fun evening to get out with friends enjoy some wine and do a little shopping. Plus watch for the pink signs to get a percentage off your purchase.
LOCATION:The Basement Marketplace 14625 Lebanon Rd\, Old Hickory\, TN 37138
UID:e.2544.10981
SEQUENCE:3
DTSTAMP:20260424T051122Z
URL:https://business.mjchamber.org/events/details/shop-late-at-the-basement-marketplace-04-07-2022-10981
END:VEVENT

END:VCALENDAR
