BEGIN:VCALENDAR
VERSION:2.0
PRODID:-//ChamberMaster//Event Calendar 2.0//EN
METHOD:PUBLISH
X-PUBLISHED-TTL:P3D
REFRESH-INTERVAL:P3D
CALSCALE:GREGORIAN
BEGIN:VEVENT
DTSTART:20211127T180000Z
DTEND:20211127T220000Z
X-MICROSOFT-CDO-ALLDAYEVENT:FALSE
SUMMARY:Small Business Saturday Fair
DESCRIPTION:On Small Business Saturday we are hosting 40 vendors under one roof at re:MOVE//Training from 12-4 PM. The event is free and open to the public. Come do your Christmas shopping and support local families at the same time. Juice Bar will have its mobile truck parked outside. Four Fathers BBQ will be making sandwiches!
X-ALT-DESC;FMTTYPE=text/html:On Small Business Saturday we are hosting 40 vendors under one roof at re:MOVE//Training from 12-4 PM. The event is free and open to the public. Come do your Christmas shopping and support local families at the same time. Juice Bar will have its mobile truck parked outside. Four Fathers BBQ will be making sandwiches!
LOCATION:11620 Lebanon Rd Mount Juliet
UID:e.2544.10616
SEQUENCE:3
DTSTAMP:20260424T141855Z
URL:https://business.mjchamber.org/events/details/small-business-saturday-fair-10616
END:VEVENT

END:VCALENDAR
