BEGIN:VCALENDAR
VERSION:2.0
PRODID:-//ChamberMaster//Event Calendar 2.0//EN
METHOD:PUBLISH
X-PUBLISHED-TTL:P3D
REFRESH-INTERVAL:P3D
CALSCALE:GREGORIAN
BEGIN:VEVENT
DTSTART:20120416T120000Z
DTEND:20120416T140000Z
X-MICROSOFT-CDO-ALLDAYEVENT:FALSE
SUMMARY:Small Business Workshop
DESCRIPTION:Verizon Wireless\, in the Providence Shopping Center\, Mt Juliet\, is hosting a Small Business Workshop\, "What's in Your Toolbox?". This is for current customers or anyone that is thinking about it. We will be serving breakfast from Panara Bread. We do need RSVP's to ensure proper seating and enough food. Thanks\, Angie
X-ALT-DESC;FMTTYPE=text/html:Verizon Wireless\, in the Providence Shopping Center\, Mt Juliet\, is hosting a Small Business Workshop\, "What's in Your Toolbox?". This is for current customers or anyone that is thinking about it. We will be serving breakfast from Panara Bread. We do need RSVP's to ensure proper seating and enough food. Thanks\, Angie
LOCATION:401 South Juliet Rd Suite 170\, Mt Juliet\, Tn 37122 401 South Mt Juliet Rd. Providence Shopping Center Behind Logan's
UID:e.2544.265
SEQUENCE:3
DTSTAMP:20260419T195751Z
URL:https://business.mjchamber.org/events/details/small-business-workshop-04-16-2012-265
END:VEVENT

END:VCALENDAR
