BEGIN:VCALENDAR
VERSION:2.0
PRODID:-//ChamberMaster//Event Calendar 2.0//EN
METHOD:PUBLISH
X-PUBLISHED-TTL:P3D
REFRESH-INTERVAL:P3D
CALSCALE:GREGORIAN
BEGIN:VEVENT
DTSTART:20120310T170000Z
DTEND:20120310T200000Z
X-MICROSOFT-CDO-ALLDAYEVENT:FALSE
SUMMARY:Spring Break Kick-Off!
DESCRIPTION:Yo So Delicious frozen Yogurt Bar Spring Break Kick-Off!  \nFREE Smoothie Yo So Tumblers for the first 20 people in the door.  From 11am-Noon = Buy One Yogurt\, Get One Yogurt FREE\nNoon-1pm = Buy One Yogurt\, Get One Yogurt HALF OFF\n1pm-2pm = $1 Waffle Cones & $3 Smoothies\nKick off the Wilson County Spring Break in a Delicious Way!
X-ALT-DESC;FMTTYPE=text/html:Yo So Delicious frozen Yogurt Bar Spring Break Kick-Off!  \nFREE Smoothie Yo So Tumblers for the first 20 people in the door.  From 11am-Noon = Buy One Yogurt\, Get One Yogurt FREE\nNoon-1pm = Buy One Yogurt\, Get One Yogurt HALF OFF\n1pm-2pm = $1 Waffle Cones & $3 Smoothies\nKick off the Wilson County Spring Break in a Delicious Way!
LOCATION:401 S Mt Juliet Rd #205\, Mt. Juliet\, TN 37122 Yo So Delicious Frozen Yogurt Bar PROVIDENCE MARKETPLACE\, Next to Kroger
UID:e.2544.248
SEQUENCE:3
DTSTAMP:20260419T213349Z
URL:https://business.mjchamber.org/events/details/spring-break-kick-off-03-10-2012-248
END:VEVENT

END:VCALENDAR
