BEGIN:VCALENDAR
VERSION:2.0
PRODID:-//ChamberMaster//Event Calendar 2.0//EN
METHOD:PUBLISH
X-PUBLISHED-TTL:P3D
REFRESH-INTERVAL:P3D
CALSCALE:GREGORIAN
BEGIN:VEVENT
DTSTART:20220507T150000Z
DTEND:20220507T200000Z
X-MICROSOFT-CDO-ALLDAYEVENT:FALSE
SUMMARY:Spring Fest in the Grove
DESCRIPTION:Spring Fest in the Grove   May 7\, 2022   10am-3pm Free Admission and Parking   Located throughout Fiddlers Grove Enjoy walking among the trees and gardens while shopping at the over 75 vendor booths at Spring Fest in the Grove. There will be a variety of vendors selling everything from handmade jewelry\, home decor\, hand embroidered items\, home made goat milk soap\, delicious baked goods\, clothing and so much more. The Wilson County Master Gardeners will also hold a plant sale to benefit the gardens of Fiddlers Grove. It will be located at the front entrance of the Grove.
X-ALT-DESC;FMTTYPE=text/html:Spring Fest in the Grove &ndash\; May 7\, 2022 &ndash\; 10am-3pm Free Admission and Parking &ndash\; Located throughout Fiddlers Grove Enjoy walking among the trees and gardens while shopping at the over 75 vendor booths at Spring Fest in the Grove. There will be a variety of vendors selling everything from handmade jewelry\, home decor\, hand embroidered items\, home made goat milk soap\, delicious baked goods\, clothing and so much more. The Wilson County Master Gardeners will also hold a plant sale to benefit the gardens of Fiddlers Grove. It will be located at the front entrance of the Grove.
LOCATION:Fiddlers Grove Historic Village 945 E. Baddour Parkway Lebanon\, TN
UID:e.2544.11165
SEQUENCE:3
DTSTAMP:20260424T025458Z
URL:https://business.mjchamber.org/events/details/spring-fest-in-the-grove-11165
END:VEVENT

END:VCALENDAR
