BEGIN:VCALENDAR
VERSION:2.0
PRODID:-//ChamberMaster//Event Calendar 2.0//EN
METHOD:PUBLISH
X-PUBLISHED-TTL:P3D
REFRESH-INTERVAL:P3D
CALSCALE:GREGORIAN
BEGIN:VEVENT
DTSTART:20210817T200000Z
DTEND:20210817T220000Z
X-MICROSOFT-CDO-ALLDAYEVENT:FALSE
SUMMARY:Starting a Small Business
DESCRIPTION:This workshop provides basic information on starting a small business. *TSBDC services *Personal Considerations *Business Planning *Financing *Requirements\n\nTo get here\, take the GAP Blvd entrance to Volunteer State Community College. Then take your second entrance on the right into the parking lot. Building 300 is located in the round-a-bout and it has the number 300 on the front.\n\n\n\nFee: No Cost\n\n\n\nRegister Here
X-ALT-DESC;FMTTYPE=text/html:<p class="cdworkshoptextinfo" style="white-space: pre-wrap\; color: rgb(0\, 0\, 0)\; font-family: Arial\, Helvetica\, sans-serif\; font-size: 16px\;">This workshop provides basic information on starting a small business. *TSBDC services *Personal Considerations *Business Planning *Financing *Requirements</p>\n\n<p class="cdworkshoptextinfo" style="white-space: pre-wrap\; color: rgb(0\, 0\, 0)\; font-family: Arial\, Helvetica\, sans-serif\; font-size: 16px\;">To get here\, take the GAP Blvd entrance to Volunteer State Community College. Then take your second entrance on the right into the parking lot. Building 300 is located in the round-a-bout and it has the number 300 on the front.<br />\n<br />\nFee: No Cost<br />\n<br />\n<span style="font-size:22px\;"><strong><a href="https://clients.tsbdc.org/reg.aspx?mode=event&amp\;event=53410033" target="_blank">Register Here</a></strong></span></p>\n
LOCATION:
UID:e.2544.10167
SEQUENCE:3
DTSTAMP:20260424T181817Z
URL:https://business.mjchamber.org/events/details/starting-a-small-business-10167
END:VEVENT

END:VCALENDAR
