BEGIN:VCALENDAR
VERSION:2.0
PRODID:-//ChamberMaster//Event Calendar 2.0//EN
METHOD:PUBLISH
X-PUBLISHED-TTL:P3D
REFRESH-INTERVAL:P3D
CALSCALE:GREGORIAN
BEGIN:VEVENT
DTSTART:20120512T150000Z
DTEND:20120512T180000Z
X-MICROSOFT-CDO-ALLDAYEVENT:FALSE
SUMMARY:State Farm Child Safety Seat Day
DESCRIPTION:State Farm Agent Jeff Gannon and team along with Monroe Carell Jr. Children's Hospital at Vanderbilt and Safe Kids will host a child safety seat check at Providence MarketPlace (in front of Dick's Sporting Goods) on Saturday May 12 from 10:00am-1:00pm.  This will be a free check to verify any recalls and child restraint seats are properly installed.
X-ALT-DESC;FMTTYPE=text/html:State Farm Agent Jeff Gannon and team along with Monroe Carell Jr. Children's Hospital at Vanderbilt and Safe Kids will host a child safety seat check at Providence MarketPlace (in front of Dick's Sporting Goods) on Saturday May 12 from 10:00am-1:00pm.  This will be a free check to verify any recalls and child restraint seats are properly installed.
LOCATION:401 S Mt Juliet Rd\, Mount Juliet\, TN 37122 Providence MarketPlace - in front of Dick's Sporting Goods
UID:e.2544.268
SEQUENCE:3
DTSTAMP:20260419T181517Z
URL:https://business.mjchamber.org/events/details/state-farm-child-safety-seat-day-05-12-2012-268
END:VEVENT

END:VCALENDAR
