BEGIN:VCALENDAR
VERSION:2.0
PRODID:-//ChamberMaster//Event Calendar 2.0//EN
METHOD:PUBLISH
X-PUBLISHED-TTL:P3D
REFRESH-INTERVAL:P3D
CALSCALE:GREGORIAN
BEGIN:VEVENT
DTSTART:20110716T230000Z
DTEND:20110717T010000Z
X-MICROSOFT-CDO-ALLDAYEVENT:FALSE
SUMMARY:Summer Concert Series
DESCRIPTION:Country Artist Bill Feathers
X-ALT-DESC;FMTTYPE=text/html:Country Artist Bill Feathers
LOCATION:Mt. Juliet Senior Center 2034 N. Mt. Juliet Road Mt. Juliet\, TN
UID:e.2544.77
SEQUENCE:3
DTSTAMP:20260420T113523Z
URL:https://business.mjchamber.org/events/details/summer-concert-series-07-16-2011-77
END:VEVENT

END:VCALENDAR
