BEGIN:VCALENDAR
VERSION:2.0
PRODID:-//ChamberMaster//Event Calendar 2.0//EN
METHOD:PUBLISH
X-PUBLISHED-TTL:P3D
REFRESH-INTERVAL:P3D
CALSCALE:GREGORIAN
BEGIN:VEVENT
DTSTART:20120519T150000Z
DTEND:20120519T210000Z
X-MICROSOFT-CDO-ALLDAYEVENT:FALSE
SUMMARY:Summer Festival of Art & Music
DESCRIPTION:Live music\, Artisan booths\, Food & drinks\, Shoe decorating contest (bring entries the day before)\, and much more! Plate lunch with dessert and beverage - only $5. To reserve an Artisan booth\, call 758-9114.
X-ALT-DESC;FMTTYPE=text/html:Live music\, Artisan booths\, Food & drinks\, Shoe decorating contest (bring entries the day before)\, and much more! Plate lunch with dessert and beverage - only $5. To reserve an Artisan booth\, call 758-9114. 
LOCATION:2034 N. Mt. Juliet Road\, Mt. Juliet\, TN 37122
UID:e.2544.284
SEQUENCE:3
DTSTAMP:20260419T181728Z
URL:https://business.mjchamber.org/events/details/summer-festival-of-art-music-05-19-2012-284
END:VEVENT

END:VCALENDAR
