BEGIN:VCALENDAR
VERSION:2.0
PRODID:-//ChamberMaster//Event Calendar 2.0//EN
METHOD:PUBLISH
X-PUBLISHED-TTL:P3D
REFRESH-INTERVAL:P3D
CALSCALE:GREGORIAN
BEGIN:VEVENT
DTSTART:20120803T170000Z
DTEND:20120803T190000Z
X-MICROSOFT-CDO-ALLDAYEVENT:FALSE
SUMMARY:Sunset Structures/Sunset Trucking Open House
DESCRIPTION:Ribbon Cutting @ 11:30am!
X-ALT-DESC;FMTTYPE=text/html:Ribbon Cutting @ 11:30am!
LOCATION:8198 Central Pike\, Mt. Juliet\, TN 37122 8198 Central Pike Mt Juliet\, TN 37122 Corner of South Mt Juliet Rd and Central Pike
UID:e.2544.313
SEQUENCE:3
DTSTAMP:20260423T103852Z
URL:https://business.mjchamber.org/events/details/sunset-structures-sunset-trucking-open-house-08-03-2012-313
END:VEVENT

END:VCALENDAR
