BEGIN:VCALENDAR
VERSION:2.0
PRODID:-//ChamberMaster//Event Calendar 2.0//EN
METHOD:PUBLISH
X-PUBLISHED-TTL:P3D
REFRESH-INTERVAL:P3D
CALSCALE:GREGORIAN
BEGIN:VEVENT
DTSTART:20110806T003000Z
DTEND:20110806T003000Z
X-MICROSOFT-CDO-ALLDAYEVENT:FALSE
SUMMARY:''Swingin' At the Roxy'' presented by Encore Theatre Company
DESCRIPTION:"Swingin' At the Roxy" is an interactive musical and variety revue that takes audiences back to the supper clubs of the 1940's.  For more information\, go to www.encore-theatre-company.org.
X-ALT-DESC;FMTTYPE=text/html:"Swingin' At the Roxy" is an interactive musical and variety revue that takes audiences back to the supper clubs of the 1940's.  For more information\, go to www.encore-theatre-company.org.
LOCATION:6978 Lebanon Road\, Mt. Juliet\, TN 37122
UID:e.2544.87
SEQUENCE:3
DTSTAMP:20260420T100424Z
URL:https://business.mjchamber.org/events/details/swingin-at-the-roxy-presented-by-encore-theatre-company-08-05-2011-87
END:VEVENT

END:VCALENDAR
