BEGIN:VCALENDAR
VERSION:2.0
PRODID:-//ChamberMaster//Event Calendar 2.0//EN
METHOD:PUBLISH
X-PUBLISHED-TTL:P3D
REFRESH-INTERVAL:P3D
CALSCALE:GREGORIAN
BEGIN:VEVENT
DTSTART:20120420T230000Z
DTEND:20120421T020000Z
X-MICROSOFT-CDO-ALLDAYEVENT:FALSE
SUMMARY:Taste of Mt. Juliet
DESCRIPTION:Sponsored by Mt. Juliet Breakfast Rotary Club\nTickets on sale March 1
X-ALT-DESC;FMTTYPE=text/html:Sponsored by Mt. Juliet Breakfast Rotary Club\nTickets on sale March 1
LOCATION:1800 Curd Road\, Mt. Juliet\, TN 37122
UID:e.2544.226
SEQUENCE:3
DTSTAMP:20260419T195936Z
URL:https://business.mjchamber.org/events/details/taste-of-mt-juliet-04-20-2012-226
END:VEVENT

END:VCALENDAR
