BEGIN:VCALENDAR
VERSION:2.0
PRODID:-//ChamberMaster//Event Calendar 2.0//EN
METHOD:PUBLISH
X-PUBLISHED-TTL:P3D
REFRESH-INTERVAL:P3D
CALSCALE:GREGORIAN
BEGIN:VEVENT
DTSTART:20220511T223000Z
DTEND:20220512T020000Z
X-MICROSOFT-CDO-ALLDAYEVENT:FALSE
SUMMARY:Tee Off Party
DESCRIPTION:Join us for food\, drinks and fun filled auction! We will have a silent auction from 5:30 and ending at 7:45\, the live auction will begin at 8:00 If you can't join but would like to donate an item\, please do!
X-ALT-DESC;FMTTYPE=text/html:Join us for food\, drinks and fun filled auction! We will have a silent auction from 5:30 and ending at 7:45\, the live auction will begin at 8:00 If you can&#39\;t join but would like to donate an item\, please do!
LOCATION:Pine Creek Golf 1835 Logue Rd Mt. Juliet\, Tn 37122
UID:e.2544.10993
SEQUENCE:3
DTSTAMP:20260424T025157Z
URL:https://business.mjchamber.org/events/details/tee-off-party-10993
END:VEVENT

END:VCALENDAR
