BEGIN:VCALENDAR
VERSION:2.0
PRODID:-//ChamberMaster//Event Calendar 2.0//EN
METHOD:PUBLISH
X-PUBLISHED-TTL:P3D
REFRESH-INTERVAL:P3D
CALSCALE:GREGORIAN
BEGIN:VEVENT
DTSTART:20201106T160000Z
DTEND:20201219T220000Z
X-MICROSOFT-CDO-ALLDAYEVENT:FALSE
SUMMARY:Tennessee Christmas in the Grove
DESCRIPTION:It is Christmas Time in the Grove Looking for a fun family or friends adventure outside? Start your Christmas season with an inspiring stroll through Fiddlers Grove Historic Village in Lebanon\, TN. See over 60 buildings adorned with Christmas wreaths\, lights\, animated figures and so much more! Lots of picture opportunities with scenic backgrounds. Fiddlers Grove Coordinator Gwen Scott is excited to share the history and beauty of the Grove with visitors. ?As you walk through the Grove\, you will hear Christmas music and some of the history of Christmas\,? Scott stated. ?The tour is so much more than a leisurely stroll through a beautiful setting\, it?s a look at Christmas from yesteryear. Visitors can learn so much from seeing and hearing about the history of Christmas.? Admission tickets can be purchased on-line at www.fiddlersgrovetn.com or at the General Store when you arrive. Enjoy a cookie and hot chocolate or hot cider as you stroll through the paths rich with history and d cor. Admission prices are $10 for adults and $5 for children ages 6-12. Children 5 and under receive free admission. Christmas in the Grove is open for visitors Tuesday through Saturdays\, 10:00 AM to 4:00 PM now through Saturday\, December 19. We hope everyone who is looking for an outdoor family-friendly fun adventure will join us. For more information about Christmas in the Grove\, go to www.fiddlersgrovetn.com or follow us on Facebook at Fiddlers Grove Historic Village of Tennessee (@FiddlersGroveTN) for the latest updates. All CDC guidelines are being followed and in accordance with county and state guidelines. We hope to see you\, your family\, and friends at Christmas in the Grove!
X-ALT-DESC;FMTTYPE=text/html:<span style="color:#000000\;"><span style="font-size:14px\;"><span style="font-family:tahoma\;">It is Christmas Time in the Grove Looking for a fun family or friends adventure outside? Start your Christmas season with an inspiring stroll through Fiddlers Grove Historic Village in Lebanon\, TN. See over 60 buildings adorned with Christmas wreaths\, lights\, animated figures and so much more! Lots of picture opportunities with scenic backgrounds. Fiddlers Grove Coordinator Gwen Scott is excited to share the history and beauty of the Grove with visitors. ?As you walk through the Grove\, you will hear Christmas music and some of the history of Christmas\,? Scott stated. ?The tour is so much more than a leisurely stroll through a beautiful setting\, it?s a look at Christmas from yesteryear. Visitors can learn so much from seeing and hearing about the history of Christmas.? Admission tickets can be purchased on-line at www.fiddlersgrovetn.com or at the General Store when you arrive. Enjoy a cookie and hot chocolate or hot cider as you stroll through the paths rich with history and d&eacute\;cor. Admission prices are $10 for adults and $5 for children ages 6-12. Children 5 and under receive free admission. Christmas in the Grove is open for visitors Tuesday through Saturdays\, 10:00 AM to 4:00 PM now through Saturday\, December 19. We hope everyone who is looking for an outdoor family-friendly fun adventure will join us. For more information about Christmas in the Grove\, go to www.fiddlersgrovetn.com or follow us on Facebook at Fiddlers Grove Historic Village of Tennessee (@FiddlersGroveTN) for the latest updates. All CDC guidelines are being followed and in accordance with county and state guidelines. We hope to see you\, your family\, and friends at Christmas in the Grove!</span></span></span>
LOCATION:Fiddlers Grove Historic Village at the James E Ward Ag Center
UID:e.2544.9037
SEQUENCE:3
DTSTAMP:20260425T105152Z
URL:https://business.mjchamber.org/events/details/tennessee-christmas-in-the-grove-9037
END:VEVENT

END:VCALENDAR
