BEGIN:VCALENDAR
VERSION:2.0
PRODID:-//ChamberMaster//Event Calendar 2.0//EN
METHOD:PUBLISH
X-PUBLISHED-TTL:P3D
REFRESH-INTERVAL:P3D
CALSCALE:GREGORIAN
BEGIN:VEVENT
DTSTART;VALUE=DATE:20110715
DTEND;VALUE=DATE:20110718
TRANSP:TRANSPARENT
X-MICROSOFT-CDO-ALLDAYEVENT:TRUE
SUMMARY:''The Adventures of Tom Sawyer'' presented by Encore Theatre
DESCRIPTION:Encore Theatre Company will bring the Mark Twain classic to life this summer.\nShows run from July 15 to July 30. Showtimes on Thursday\, Friday and Saturday are 7:30 p.m.  Sunday shows begin at 2:30 p.m.
X-ALT-DESC;FMTTYPE=text/html:Encore Theatre Company will bring the Mark Twain classic to life this summer.\nShows run from July 15 to July 30. Showtimes on Thursday\, Friday and Saturday are 7:30 p.m.  Sunday shows begin at 2:30 p.m.
LOCATION:Encore Theatre Company 6978 Lebanon Road
UID:e.2544.69
SEQUENCE:3
DTSTAMP:20260420T113909Z
URL:https://business.mjchamber.org/events/details/the-adventures-of-tom-sawyer-presented-by-encore-theatre-07-15-2011-69
END:VEVENT

END:VCALENDAR
