BEGIN:VCALENDAR
VERSION:2.0
PRODID:-//ChamberMaster//Event Calendar 2.0//EN
METHOD:PUBLISH
X-PUBLISHED-TTL:P3D
REFRESH-INTERVAL:P3D
CALSCALE:GREGORIAN
BEGIN:VEVENT
DTSTART:20210420T140000Z
DTEND:20210420T160000Z
X-MICROSOFT-CDO-ALLDAYEVENT:FALSE
SUMMARY:Time Management & Goal Setting for your Small Business
DESCRIPTION:This workshop is designed for small business owners. Do you want to learn how to make your priorities a priority? If so\, this workshop is for you. We will focus on ways to make your day more productive and business goal-oriented.\n\nRegister Here \n \n\nFee: No Cost
X-ALT-DESC;FMTTYPE=text/html:<p class="cdworkshoptextinfo" style="white-space: pre-wrap\; color: rgb(0\, 0\, 0)\; font-family: Arial\, Helvetica\, sans-serif\; font-size: 16px\;">This workshop is designed for small business owners. Do you want to learn how to make your priorities a priority? If so\, this workshop is for you. We will focus on ways to make your day more productive and business goal-oriented.</p>\n\n<div style="color: rgb(0\, 0\, 0)\; font-family: Arial\, Helvetica\, sans-serif\; font-size: 16px\;"><a href="https://clients.tsbdc.org/reg.aspx?mode=event&amp\;event=53410018" target="_blank"><strong><span style="font-size:18px\;">Register Here&nbsp\;</span></strong></a></div>\n&nbsp\;\n\n<p style="color: rgb(0\, 0\, 0)\; font-family: Arial\, Helvetica\, sans-serif\; font-size: 16px\;">Fee: No Cost</p>\n
LOCATION:
UID:e.2544.9292
SEQUENCE:3
DTSTAMP:20260424T113200Z
URL:https://business.mjchamber.org/events/details/time-management-goal-setting-for-your-small-business-9292
END:VEVENT

END:VCALENDAR
