BEGIN:VCALENDAR
VERSION:2.0
PRODID:-//ChamberMaster//Event Calendar 2.0//EN
METHOD:PUBLISH
X-PUBLISHED-TTL:P3D
REFRESH-INTERVAL:P3D
CALSCALE:GREGORIAN
BEGIN:VEVENT
DTSTART:20110623T223000Z
DTEND:20110624T000000Z
X-MICROSOFT-CDO-ALLDAYEVENT:FALSE
SUMMARY:Town Hall Meeting
DESCRIPTION:The city is holding a "Community Conversation" and needs to hear from you. Tell us your vision for the future of our community. Major door prizes to be awarded.
X-ALT-DESC;FMTTYPE=text/html:The city is holding a "Community Conversation" and needs to hear from you. Tell us your vision for the future of our community. Major door prizes to be awarded.
LOCATION:Mt. Juliet High School-1800 Curd Road
UID:e.2544.42
SEQUENCE:3
DTSTAMP:20260422T085241Z
URL:https://business.mjchamber.org/events/details/town-hall-meeting-06-23-2011-42
END:VEVENT

END:VCALENDAR
