BEGIN:VCALENDAR
VERSION:2.0
PRODID:-//ChamberMaster//Event Calendar 2.0//EN
METHOD:PUBLISH
X-PUBLISHED-TTL:P3D
REFRESH-INTERVAL:P3D
CALSCALE:GREGORIAN
BEGIN:VEVENT
DTSTART:20211029T220000Z
DTEND:20211030T000000Z
X-MICROSOFT-CDO-ALLDAYEVENT:FALSE
SUMMARY:Trick or Treat Trail
DESCRIPTION:Make AHC Mt. Juliet your Halloween haunt! Bring the kids to trick-or-treat in costumes outside our Resident windows. Looking for a job? Come learn more about career opportunities with American Health Communities as well! Hand sanitizer will be available throughout the event.
X-ALT-DESC;FMTTYPE=text/html:Make AHC Mt. Juliet your Halloween haunt! Bring the kids to trick-or-treat in costumes outside our Resident windows. Looking for a job? Come learn more about career opportunities with American Health Communities as well! Hand sanitizer will be available throughout the event.
LOCATION:AHC Mt. Juliet (Nursing home) 2650 North Mt. Juliet Rd. Mt. Juliet\, TN 37122
UID:e.2544.10321
SEQUENCE:3
DTSTAMP:20260424T161512Z
URL:https://business.mjchamber.org/events/details/trick-or-treat-trail-10321
END:VEVENT

END:VCALENDAR
