BEGIN:VCALENDAR
VERSION:2.0
PRODID:-//ChamberMaster//Event Calendar 2.0//EN
METHOD:PUBLISH
X-PUBLISHED-TTL:P3D
REFRESH-INTERVAL:P3D
CALSCALE:GREGORIAN
BEGIN:VEVENT
DTSTART:20211025T220000Z
DTEND:20211025T233000Z
X-MICROSOFT-CDO-ALLDAYEVENT:FALSE
SUMMARY:Trunk or Treat
DESCRIPTION:Join us for our Annual Trunk or Treat Night! There will be lots of decorated trunks\, lots of candy and lots of fun for the entire family! Costumes are encouraged!
X-ALT-DESC;FMTTYPE=text/html:Join us for our Annual Trunk or Treat Night! There will be lots of decorated trunks\, lots of candy and lots of fun for the entire family! Costumes are encouraged!
LOCATION:2055 N. Mt. Juliet Road Mt. Juliet\, TN 37122 Parking Lot
UID:e.2544.10322
SEQUENCE:3
DTSTAMP:20260424T161639Z
URL:https://business.mjchamber.org/events/details/trunk-or-treat-10-25-2021-10322
END:VEVENT

END:VCALENDAR
