BEGIN:VCALENDAR
VERSION:2.0
PRODID:-//ChamberMaster//Event Calendar 2.0//EN
METHOD:PUBLISH
X-PUBLISHED-TTL:P3D
REFRESH-INTERVAL:P3D
CALSCALE:GREGORIAN
BEGIN:VEVENT
DTSTART:20120611T230000Z
DTEND:20120616T013000Z
X-MICROSOFT-CDO-ALLDAYEVENT:FALSE
SUMMARY:Vacation Bible School
DESCRIPTION:VBS is an amazing week for children! They return home everyday with a huge smile on their face\, new friends\, and a head full of knowledge that helps transform their hearts. \n\nKids will dare to go deep with God at Operation Overboard as they rotate through fun-filled activities: Games\, Crafts\, Snacks\, Music\, Lessons\, Discovery\, Skits\n\nAll children age 4 through graduating 5th grade are welcome! A registration form must be filled out for each child. There is a suggested donation of $10/child (max $20/family) for the VBS t-shirt and supplies\; however\, all are welcome whether you make a donation or not. Register by Friday\, June 1st to guarantee your spot. \n\nRegister online: \nhttp://overboard.cokesburyvbs.com/GraceUMC\n\nOr in person:\nGrace United Methodist Church \nPhone: 615-754-6034 \nAddress: 2905 North Mount Juliet Road \nMount Juliet\, TN 37122 \nWeb: http://graceumc.net/\nFacebook: http://www.facebook.com/GRACEmtjuliet
X-ALT-DESC;FMTTYPE=text/html:VBS is an amazing week for children! They return home everyday with a huge smile on their face\, new friends\, and a head full of knowledge that helps transform their hearts. \n\nKids will dare to go deep with God at Operation Overboard as they rotate through fun-filled activities: Games\, Crafts\, Snacks\, Music\, Lessons\, Discovery\, Skits\n\nAll children age 4 through graduating 5th grade are welcome! A registration form must be filled out for each child. There is a suggested donation of $10/child (max $20/family) for the VBS t-shirt and supplies\; however\, all are welcome whether you make a donation or not. Register by Friday\, June 1st to guarantee your spot. \n\nRegister online: \nhttp://overboard.cokesburyvbs.com/GraceUMC\n\nOr in person:\nGrace United Methodist Church \nPhone: 615-754-6034 \nAddress: 2905 North Mount Juliet Road \nMount Juliet\, TN 37122 \nWeb: http://graceumc.net/\nFacebook: http://www.facebook.com/GRACEmtjuliet 
LOCATION:2905 N. Mt. Juliet Rd.\, Mt. Juliet\, Te 37122 2905 N. Mt. Juliet Rd.
UID:e.2544.280
SEQUENCE:3
DTSTAMP:20260419T165732Z
URL:https://business.mjchamber.org/events/details/vacation-bible-school-06-11-2012-280
END:VEVENT

END:VCALENDAR
