BEGIN:VCALENDAR
VERSION:2.0
PRODID:-//ChamberMaster//Event Calendar 2.0//EN
METHOD:PUBLISH
X-PUBLISHED-TTL:P3D
REFRESH-INTERVAL:P3D
CALSCALE:GREGORIAN
BEGIN:VEVENT
DTSTART:20210413T190000Z
DTEND:20210413T210000Z
X-MICROSOFT-CDO-ALLDAYEVENT:FALSE
SUMMARY:Virtual Hiring Event in Mt. Juliet
DESCRIPTION:Virtual Hiring Event in Mt. Juliet\n\nAPRIL 13 @ 2:00 PM - 4:00 PM\nFREE\n\nGoodwill will host a Virtual Hiring Event for HireLevel\, which is seeking to fill 25 positions\, from 2-4 p.m. on Tuesday\, April 13\, at the Goodwill Career Solutions Center at 1985 Providence Parkway in Mt. Juliet. \n\n \n\nJob-seekers MUST pre-register for the event by calling (615) 288-2389 or visiting https://bit.ly/3dcFzLk. \n\n \n\nYou can participate online from home or using computers at the Mt. Juliet Goodwill Career Solutions center. View available job descriptions here: https://bit.ly/3jPjIME.\n\n \n\nUse this link to attend the job fair via Zoom (after you have pre-registered): https://bit.ly/2Q1zVEr
X-ALT-DESC;FMTTYPE=text/html:<h1><span style="color:#141827"><span style="font-family:helvetica\,sans-serif"><span style="font-size:31.5pt">Virtual Hiring Event in Mt. Juliet</span></span></span></h1>\n\n<h2 style="margin-left:0in\; margin-right:6.0pt"><span style="color:#141827"><span style="font-family:helvetica\,sans-serif"><span style="font-size:12.0pt">APRIL 13 @ 2:00 PM</span></span></span><span style="color:#141827"><span style="font-family:helvetica\,sans-serif"><span style="font-size:12.0pt">&nbsp\;-&nbsp\;4:00 PM</span></span></span></h2>\n<strong><span style="color:#141827"><span style="font-family:helvetica\,sans-serif">FREE</span></span></strong><br />\n<span style="color:#0A0A0A"><span style="font-family:arial\,sans-serif"><span style="font-size:13.5pt">Goodwill will host a Virtual Hiring Event for HireLevel\, which is seeking to fill 25 positions\, from <strong>2-4 p.m.</strong> on <strong>Tuesday\, April 13</strong>\, at the Goodwill Career Solutions Center at 1985 Providence Parkway in Mt. Juliet. </span></span></span><br />\n&nbsp\;<br />\n<span style="color:#0A0A0A"><span style="font-family:arial\,sans-serif"><span style="font-size:13.5pt">Job-seekers MUST pre-register for the event by calling (615) 288-2389 or visiting&nbsp\;<a href="https://bit.ly/3dcFzLk" style="border-top-style:initial\;border-right-style:initial\;border-left-style:initial\;border-image:initial\;outline:0px\;cursor:pointer\;transition:color 0.2s ease 0s\;background-position-x:0px\;background-position-y:0px\;" target="_blank"><span style="color:#141827">https://bit.ly/3dcFzLk</span></a>. </span></span></span><br />\n&nbsp\;<br />\n<span style="color:#0A0A0A"><span style="font-family:arial\,sans-serif"><span style="font-size:13.5pt">You can participate online from home or using computers at the Mt. Juliet Goodwill Career Solutions center. View available job descriptions here:&nbsp\;<a href="https://bit.ly/3jPjIME" style="border-top-style:initial\;border-right-style:initial\;border-left-style:initial\;border-image:initial\;outline:0px\;cursor:pointer\;transition:color 0.2s ease 0s\;background-position-x:0px\;background-position-y:0px\;" target="_blank"><span style="color:#141827">https://bit.ly/3jPjIME</span></a>.</span></span></span><br />\n&nbsp\;<br />\n<strong><span style="color:#0A0A0A"><span style="font-family:arial\,sans-serif"><span style="font-size:13.5pt">Use this link to attend the job fair via Zoom (after you have pre-registered):&nbsp\;<a href="https://bit.ly/2Q1zVEr" style="border-top-style:initial\;border-right-style:initial\;border-left-style:initial\;border-image:initial\;outline:0px\;cursor:pointer\;transition:color 0.2s ease 0s\;background-position-x:0px\;background-position-y:0px\;" target="_blank"><span style="color:#141827">https://bit.ly/2Q1zVEr</span></a></span></span></span></strong>
LOCATION:1985 Providence Pkwy\, Mt. Juliet\, TN 37122
UID:e.2544.9624
SEQUENCE:3
DTSTAMP:20260424T113155Z
URL:https://business.mjchamber.org/events/details/virtual-hiring-event-in-mt-juliet-9624
END:VEVENT

END:VCALENDAR
