BEGIN:VCALENDAR
VERSION:2.0
PRODID:-//ChamberMaster//Event Calendar 2.0//EN
METHOD:PUBLISH
X-PUBLISHED-TTL:P3D
REFRESH-INTERVAL:P3D
CALSCALE:GREGORIAN
BEGIN:VEVENT
DTSTART:20210810T180000Z
DTEND:20210810T200000Z
X-MICROSOFT-CDO-ALLDAYEVENT:FALSE
SUMMARY:Virtual Hiring Event in Mt. Juliet for Amazon
DESCRIPTION:Goodwill will host a Virtual Hiring Event for Amazon\, which is seeking to fill 250 positions\, from 2-3 p.m. on Tuesday\, Aug. 10\, at the Goodwill Career Solutions Center at 1985 Providence Parkway in Mt. Juliet. Job-seekers are encouraged to pre-register for the event by visiting https://bit.ly/3dcFzLk or calling (615) 288-2389. You can participate online from home or using computers at the Mt. Juliet Goodwill Career Solutions center. View available job descriptions here: https://bit.ly/3jPjIME. Use this link to attend the job fair via Zoom (after you have pre-registered): https://bit.ly/3rSVjuo
X-ALT-DESC;FMTTYPE=text/html:Goodwill will host a Virtual Hiring Event for Amazon\, which is seeking to fill 250 positions\, from 2-3 p.m. on Tuesday\, Aug. 10\, at the Goodwill Career Solutions Center at 1985 Providence Parkway in Mt. Juliet. Job-seekers are encouraged to pre-register for the event by visiting https://bit.ly/3dcFzLk or calling (615) 288-2389. You can participate online from home or using computers at the Mt. Juliet Goodwill Career Solutions center. View available job descriptions here: https://bit.ly/3jPjIME. Use this link to attend the job fair via Zoom (after you have pre-registered): https://bit.ly/3rSVjuo
LOCATION:Goodwill Career Solutions Center at 1985 Providence Parkway in Mt. Juliet
UID:e.2544.10194
SEQUENCE:3
DTSTAMP:20260424T181853Z
URL:https://business.mjchamber.org/events/details/virtual-hiring-event-in-mt-juliet-for-amazon-10194
END:VEVENT

END:VCALENDAR
