BEGIN:VCALENDAR
VERSION:2.0
PRODID:-//ChamberMaster//Event Calendar 2.0//EN
METHOD:PUBLISH
X-PUBLISHED-TTL:P3D
REFRESH-INTERVAL:P3D
CALSCALE:GREGORIAN
BEGIN:VEVENT
DTSTART:20210420T190000Z
DTEND:20210420T210000Z
X-MICROSOFT-CDO-ALLDAYEVENT:FALSE
SUMMARY:Virtual Job Fair in Mt. Juliet
DESCRIPTION:Goodwill will host a Virtual Hiring Event for Senior Solutions Home Care\, which is seeking to fill more than 15 positions\, from 2-4 p.m. on Tuesday\, April 20th\, 2021\, at the Goodwill Career Solutions Center at 1985 Providence Pkwy in Mt. Juliet. Job-seekers MUST pre-register for the event by calling 615-288-2389 or visiting https://bit.ly/3dcFzLk. You can participate online from home or using computers at the Mt. Juliet Goodwill Career Solutions center. View available job descriptions here: https://bit.ly/3jPjIME. Use this link to attend the job fair via Zoom (after you have pre-registered): https://zoom.us/j/99768507204?pwd=SEcvRHNhZEUxY3BleHkxc0hDZVJiQT09 Meeting ID: 997 6850 7204 Passcode: 722251
X-ALT-DESC;FMTTYPE=text/html:Goodwill will host a Virtual Hiring Event for Senior Solutions Home Care\, which is seeking to fill more than 15 positions\, from 2-4 p.m. on Tuesday\, April 20th\, 2021\, at the Goodwill Career Solutions Center at 1985 Providence Pkwy in Mt. Juliet. Job-seekers MUST pre-register for the event by calling 615-288-2389 or visiting https://bit.ly/3dcFzLk. You can participate online from home or using computers at the Mt. Juliet Goodwill Career Solutions center. View available job descriptions here: https://bit.ly/3jPjIME. Use this link to attend the job fair via Zoom (after you have pre-registered): https://zoom.us/j/99768507204?pwd=SEcvRHNhZEUxY3BleHkxc0hDZVJiQT09 Meeting ID: 997 6850 7204 Passcode: 722251
LOCATION:1985 Providence Parkway\, Mount Juliet\, TN 37122
UID:e.2544.9901
SEQUENCE:3
DTSTAMP:20260424T113542Z
URL:https://business.mjchamber.org/events/details/virtual-job-fair-in-mt-juliet-04-20-2021-9901
END:VEVENT

END:VCALENDAR
