BEGIN:VCALENDAR
VERSION:2.0
PRODID:-//ChamberMaster//Event Calendar 2.0//EN
METHOD:PUBLISH
X-PUBLISHED-TTL:P3D
REFRESH-INTERVAL:P3D
CALSCALE:GREGORIAN
BEGIN:VEVENT
DTSTART:20210629T190000Z
DTEND:20210629T210000Z
X-MICROSOFT-CDO-ALLDAYEVENT:FALSE
SUMMARY:Virtual Job Fair in Mt. Juliet
DESCRIPTION:Goodwill will host a Virtual Job Fair for At Home Healthcare and Workforce Brokers\, which are seeking to fill 15 positions\, from 2-4 p.m. on Tuesday\, June 29\, at the Goodwill Career Solutions Center at 1985 Providence Parkway in Mt. Juliet. Job-seekers are encouraged to pre-register for the event by visiting https://bit.ly/3dcFzLk or calling (615) 288-2389. You can participate online from home or using computers at the Mt. Juliet Goodwill Career Solutions center. View available job descriptions here: https://bit.ly/3jPjIME. Use this link to attend the job fair via Zoom (after you have pre-registered): https://bit.ly/3qkzYsZ
X-ALT-DESC;FMTTYPE=text/html:Goodwill will host a Virtual Job Fair for At Home Healthcare and Workforce Brokers\, which are seeking to fill 15 positions\, from 2-4 p.m. on Tuesday\, June 29\, at the Goodwill Career Solutions Center at 1985 Providence Parkway in Mt. Juliet. Job-seekers are encouraged to pre-register for the event by visiting https://bit.ly/3dcFzLk or calling (615) 288-2389. You can participate online from home or using computers at the Mt. Juliet Goodwill Career Solutions center. View available job descriptions here: https://bit.ly/3jPjIME. Use this link to attend the job fair via Zoom (after you have pre-registered): https://bit.ly/3qkzYsZ
LOCATION:Goodwill Career Solutions Center at 1985 Providence Parkway in Mt. Juliet. You can participate online from home or using computers at the Mt. Juliet Goodwill Career Solutions center.
UID:e.2544.10097
SEQUENCE:3
DTSTAMP:20260424T145817Z
URL:https://business.mjchamber.org/events/details/virtual-job-fair-in-mt-juliet-06-29-2021-10097
END:VEVENT

END:VCALENDAR
