BEGIN:VCALENDAR
VERSION:2.0
PRODID:-//ChamberMaster//Event Calendar 2.0//EN
METHOD:PUBLISH
X-PUBLISHED-TTL:P3D
REFRESH-INTERVAL:P3D
CALSCALE:GREGORIAN
BEGIN:VEVENT
DTSTART:20210706T190000Z
DTEND:20210706T210000Z
X-MICROSOFT-CDO-ALLDAYEVENT:FALSE
SUMMARY:Virtual Job Fair in Mt. Juliet
DESCRIPTION:Goodwill will host a Virtual Job Fair for Wego Public Transit\, which is seeking to fill 40 positions\, from 2-4 p.m. on Tuesday\, July 6\, at the Goodwill Career Solutions Center at 1985 Providence Parkway in Mt. Juliet. Job-seekers are encouraged to pre-register for the event by visiting https://bit.ly/3dcFzLk or calling (615) 288-2389. You can participate online from home or using computers at the Mt. Juliet Goodwill Career Solutions center. View available job descriptions here: https://bit.ly/3jPjIME.
X-ALT-DESC;FMTTYPE=text/html:Goodwill will host a Virtual Job Fair for Wego Public Transit\, which is seeking to fill 40 positions\, from 2-4 p.m. on Tuesday\, July 6\, at the Goodwill Career Solutions Center at 1985 Providence Parkway in Mt. Juliet. Job-seekers are encouraged to pre-register for the event by visiting https://bit.ly/3dcFzLk or calling (615) 288-2389. You can participate online from home or using computers at the Mt. Juliet Goodwill Career Solutions center. View available job descriptions here: https://bit.ly/3jPjIME.
LOCATION:You can participate online from home or using computers at the Mt. Juliet Goodwill Career Solutions center 1985 Providence Parkway\, Mt. Juliet.
UID:e.2544.10113
SEQUENCE:3
DTSTAMP:20260424T165254Z
URL:https://business.mjchamber.org/events/details/virtual-job-fair-in-mt-juliet-07-06-2021-10113
END:VEVENT

END:VCALENDAR
