BEGIN:VCALENDAR
VERSION:2.0
PRODID:-//ChamberMaster//Event Calendar 2.0//EN
METHOD:PUBLISH
X-PUBLISHED-TTL:P3D
REFRESH-INTERVAL:P3D
CALSCALE:GREGORIAN
BEGIN:VEVENT
DTSTART:20210731T143000Z
DTEND:20210731T183000Z
X-MICROSOFT-CDO-ALLDAYEVENT:FALSE
SUMMARY:Virtual Reality Expo
DESCRIPTION:Entrepreneurship Opportunity Available Virtual Reality is in high demand. Our company is the #1 seller of virtual reality devices in the world. We are looking for motivated people who want to break free from the 9 to 5 or anyone who is looking to have an extra stream of income. We are helping average people with no experience in virtual reality or technology earn an income in an industry that projected to be $800 million in the next 5 years. You can be part of this explosive growth.
X-ALT-DESC;FMTTYPE=text/html:Entrepreneurship Opportunity Available Virtual Reality is in high demand. Our company is the #1 seller of virtual reality devices in the world. We are looking for motivated people who want to break free from the 9 to 5 or anyone who is looking to have an extra stream of income. We are helping average people with no experience in virtual reality or technology earn an income in an industry that projected to be $800 million in the next 5 years. You can be part of this explosive growth.
LOCATION:Holiday Inn Express 565 S Mt Juliet Road Mount Juliet\, TN 37122
UID:e.2544.10153
SEQUENCE:3
DTSTAMP:20260424T164026Z
URL:https://business.mjchamber.org/events/details/virtual-reality-expo-10153
END:VEVENT

END:VCALENDAR
