BEGIN:VCALENDAR
VERSION:2.0
PRODID:-//ChamberMaster//Event Calendar 2.0//EN
METHOD:PUBLISH
X-PUBLISHED-TTL:P3D
REFRESH-INTERVAL:P3D
CALSCALE:GREGORIAN
BEGIN:VEVENT
DTSTART:20220528T140000Z
DTEND:20220528T170000Z
X-MICROSOFT-CDO-ALLDAYEVENT:FALSE
SUMMARY:Volunteer at Lebanon's Community Garden with VBF!
DESCRIPTION:We're almost at the finish line and we would like your help!  Our final step is to spread gravel in the paths in the garden. Then we can just watch it grow!  If you're available\, email us!\n\n\n\nwww.vinebranchfellowship@gmail.com
X-ALT-DESC;FMTTYPE=text/html:We&#39\;re almost at the finish line and we would like your help!&nbsp\; Our final step is to spread gravel in the paths in the garden. Then we can just watch it grow!&nbsp\; If you&#39\;re available\, email us!<br />\n<br />\nwww.vinebranchfellowship@gmail.com
LOCATION:670 Coles Ferry Pike Lebanon\, TN 37087
UID:e.2544.11362
SEQUENCE:3
DTSTAMP:20260424T025632Z
URL:https://business.mjchamber.org/events/details/volunteer-at-lebanon-s-community-garden-with-vbf-11362
END:VEVENT

END:VCALENDAR
