BEGIN:VCALENDAR
VERSION:2.0
PRODID:-//ChamberMaster//Event Calendar 2.0//EN
METHOD:PUBLISH
X-PUBLISHED-TTL:P3D
REFRESH-INTERVAL:P3D
CALSCALE:GREGORIAN
BEGIN:VEVENT
DTSTART:20210916T163000Z
DTEND:20210916T180000Z
X-MICROSOFT-CDO-ALLDAYEVENT:FALSE
SUMMARY:VSCC Lunch & Learn about Apprenticeships
DESCRIPTION:Lunch & Learn about Apprenticeships for employers at the Vol State Gallatin Campus. Free information about how Vol State and the State of Tennessee can assist businesses with apprenticeship programs to further develop and enhance your workforce. Any questions regarding the information session\, please email nicholas.bishop@volstate.edu
X-ALT-DESC;FMTTYPE=text/html:Lunch &amp\; Learn about Apprenticeships for employers at the Vol State Gallatin Campus. Free information about how Vol State and the State of Tennessee can assist businesses with apprenticeship programs to further develop and enhance your workforce. Any questions regarding the information session\, please email nicholas.bishop@volstate.edu
LOCATION:Volunteer State Community College 1480 Nashville Pike Gallatin\, TN 37066 Wood Campus Center\, Mary Nichols Dining Room B
UID:e.2544.10216
SEQUENCE:3
DTSTAMP:20260424T175446Z
URL:https://business.mjchamber.org/events/details/vscc-lunch-learn-about-apprenticeships-10216
END:VEVENT

END:VCALENDAR
