BEGIN:VCALENDAR
VERSION:2.0
PRODID:-//ChamberMaster//Event Calendar 2.0//EN
METHOD:PUBLISH
X-PUBLISHED-TTL:P3D
REFRESH-INTERVAL:P3D
CALSCALE:GREGORIAN
BEGIN:VEVENT
DTSTART:20220326T140000Z
DTEND:20220326T170000Z
X-MICROSOFT-CDO-ALLDAYEVENT:FALSE
SUMMARY:Walk for Life
DESCRIPTION:The Walk for Life event is a fundraiser for the Pregnancy Care Center. Please come and meet us at the balloon arch to register or register online at pregnanctcarecentertn.com. We will have a children's booth and snacks for the walkers. Walk at your convenience between 9 am   12:00 pm. Enjoy your day at the park. See your fellow PCC supporters. Please take pictures and tag us or use #PCCWALK when posting online.
X-ALT-DESC;FMTTYPE=text/html:The Walk for Life event is a fundraiser for the Pregnancy Care Center. Please come and meet us at the balloon arch to register or register online at pregnanctcarecentertn.com. We will have a children&#39\;s booth and snacks for the walkers. Walk at your convenience between 9 am &ndash\; 12:00 pm. Enjoy your day at the park. See your fellow PCC supporters. Please take pictures and tag us or use #PCCWALK when posting online.
LOCATION:Charlie Daniels Park at Pavilion 3
UID:e.2544.10965
SEQUENCE:3
DTSTAMP:20260424T071029Z
URL:https://business.mjchamber.org/events/details/walk-for-life-10965
END:VEVENT

END:VCALENDAR
