BEGIN:VCALENDAR
VERSION:2.0
PRODID:-//ChamberMaster//Event Calendar 2.0//EN
METHOD:PUBLISH
X-PUBLISHED-TTL:P3D
REFRESH-INTERVAL:P3D
CALSCALE:GREGORIAN
BEGIN:VEVENT
DTSTART:20110709T210000Z
DTEND:20110710T020000Z
X-MICROSOFT-CDO-ALLDAYEVENT:FALSE
SUMMARY:Watertown Mid-Summer Art Crawl
DESCRIPTION:The event will feature works of local artists\, three band performances\, a silent auction\, street vendors and dancing on the square. This event is free and open to the public.
X-ALT-DESC;FMTTYPE=text/html:The event will feature works of local artists\, three band performances\, a silent auction\, street vendors and dancing on the square. This event is free and open to the public.
LOCATION:Watertown\, TN
UID:e.2544.68
SEQUENCE:3
DTSTAMP:20260420T113628Z
URL:https://business.mjchamber.org/events/details/watertown-mid-summer-art-crawl-07-09-2011-68
END:VEVENT

END:VCALENDAR
