BEGIN:VCALENDAR
VERSION:2.0
PRODID:-//ChamberMaster//Event Calendar 2.0//EN
METHOD:PUBLISH
X-PUBLISHED-TTL:P3D
REFRESH-INTERVAL:P3D
CALSCALE:GREGORIAN
BEGIN:VEVENT
DTSTART:20220314T140000Z
DTEND:20220314T170000Z
X-MICROSOFT-CDO-ALLDAYEVENT:FALSE
SUMMARY:WC Civic League Garden Expansion
DESCRIPTION:We are expanding and preparing the community garden at Wilson County Civic League for the Spring/Summer season. We will be spreading gravel\, creating a new planting area\, and reworking the raised beds.
X-ALT-DESC;FMTTYPE=text/html:We are expanding and preparing the community garden at Wilson County Civic League for the Spring/Summer season. We will be spreading gravel\, creating a new planting area\, and reworking the raised beds.
LOCATION:Wilson County Civic League 321 E. Market St. Lebanon 37087
UID:e.2544.10962
SEQUENCE:3
DTSTAMP:20260424T071239Z
URL:https://business.mjchamber.org/events/details/wc-civic-league-garden-expansion-10962
END:VEVENT

END:VCALENDAR
