BEGIN:VCALENDAR
VERSION:2.0
PRODID:-//ChamberMaster//Event Calendar 2.0//EN
METHOD:PUBLISH
X-PUBLISHED-TTL:P3D
REFRESH-INTERVAL:P3D
CALSCALE:GREGORIAN
BEGIN:VEVENT
DTSTART:20211005T160000Z
DTEND:20211005T230000Z
X-MICROSOFT-CDO-ALLDAYEVENT:FALSE
SUMMARY:Wilson Co Habitat For Humanity Golf Scramble
DESCRIPTION:Support Habitat's work in Wilson County by participating in the 13th annual Golf Challenge! Individuals and teams are welcome. Sponsorship opportunities available for local businesses and companies. Check web site for what is included in each sponsorship!
X-ALT-DESC;FMTTYPE=text/html:Support Habitat&#39\;s work in Wilson County by participating in the 13th annual Golf Challenge! Individuals and teams are welcome. Sponsorship opportunities available for local businesses and companies. Check web site for what is included in each sponsorship!
LOCATION:Hermitage Golf Course 3939 Old Hickory Blvd. Old Hickory\, TN 37138
UID:e.2544.10101
SEQUENCE:3
DTSTAMP:20260424T160739Z
URL:https://business.mjchamber.org/events/details/wilson-co-habitat-for-humanity-golf-scramble-10101
END:VEVENT

END:VCALENDAR
