BEGIN:VCALENDAR
VERSION:2.0
PRODID:-//ChamberMaster//Event Calendar 2.0//EN
METHOD:PUBLISH
X-PUBLISHED-TTL:P3D
REFRESH-INTERVAL:P3D
CALSCALE:GREGORIAN
BEGIN:VEVENT
DTSTART:20110806T230000Z
DTEND:20110806T230000Z
X-MICROSOFT-CDO-ALLDAYEVENT:FALSE
SUMMARY:Wilson County CASA Reverse Raffle
DESCRIPTION:For this event only 300 tickets are sold and every fifth ticket that is randomly drawn by the emcee wins a prize. This is ongoing until there are 10 tickets left in the hopper. Those 10 ticketholders can then determine whether they would like to split the grand prize\, $10\,000\, or keep drawing until only one person wins. While names are being called\, a silent auction is available for attendees to peruse. In 2007 and 2009\, the two most recent events\, there were just over 200 adult attendees. \n\nThis event is expected to net approximately $18\,500.00 for fiscal years 2011-2012 and 2012-2013 to offset the costs associated with supporting and training volunteers who serve as advocates to child abuse victims. \n\nThe reverse raffle has been authorized for operation by the 107th General Assembly and the State of Tennessee Division of Charitable Solicitations\, Gaming Division.
X-ALT-DESC;FMTTYPE=text/html:For this event only 300 tickets are sold and every fifth ticket that is randomly drawn by the emcee wins a prize. This is ongoing until there are 10 tickets left in the hopper. Those 10 ticketholders can then determine whether they would like to split the grand prize\, $10\,000\, or keep drawing until only one person wins. While names are being called\, a silent auction is available for attendees to peruse. In 2007 and 2009\, the two most recent events\, there were just over 200 adult attendees. \n\nThis event is expected to net approximately $18\,500.00 for fiscal years 2011-2012 and 2012-2013 to offset the costs associated with supporting and training volunteers who serve as advocates to child abuse victims. \n\nThe reverse raffle has been authorized for operation by the 107th General Assembly and the State of Tennessee Division of Charitable Solicitations\, Gaming Division.
LOCATION:3900 Coles Ferry Pike\, Lebanon\, TN 37087 The event will be held at the Lebanon Golf & Country Club.
UID:e.2544.66
SEQUENCE:3
DTSTAMP:20260420T113506Z
URL:https://business.mjchamber.org/events/details/wilson-county-casa-reverse-raffle-08-06-2011-66
END:VEVENT

END:VCALENDAR
