BEGIN:VCALENDAR
VERSION:2.0
PRODID:-//ChamberMaster//Event Calendar 2.0//EN
METHOD:PUBLISH
X-PUBLISHED-TTL:P3D
REFRESH-INTERVAL:P3D
CALSCALE:GREGORIAN
BEGIN:VEVENT
DTSTART;VALUE=DATE:20110812
DTEND;VALUE=DATE:20110821
TRANSP:TRANSPARENT
X-MICROSOFT-CDO-ALLDAYEVENT:TRUE
SUMMARY:Wilson County Fair
DESCRIPTION:Fair opens-Monday-Friday @ 5:00 PM\n                  Saturday @ 10.00 AM\n                  Sunday @ Noon
X-ALT-DESC;FMTTYPE=text/html:Fair opens-Monday-Friday @ 5:00 PM\n                  Saturday @ 10.00 AM\n                  Sunday @ Noon
LOCATION:James E. Ward Agricultural Center\, 945 Baddour Parkway\, Lebanon\, TN
UID:e.2544.48
SEQUENCE:3
DTSTAMP:20260420T100017Z
URL:https://business.mjchamber.org/events/details/wilson-county-fair-08-12-2011-48
END:VEVENT

END:VCALENDAR
