BEGIN:VCALENDAR
VERSION:2.0
PRODID:-//ChamberMaster//Event Calendar 2.0//EN
METHOD:PUBLISH
X-PUBLISHED-TTL:P3D
REFRESH-INTERVAL:P3D
CALSCALE:GREGORIAN
BEGIN:VEVENT
DTSTART:20210812T220000Z
DTEND:20210822T040000Z
X-MICROSOFT-CDO-ALLDAYEVENT:FALSE
SUMMARY:Wilson County Fair
DESCRIPTION:TEN days of great family fun! Enjoy carnival rides\, exhibits\, competitions\, tractor pulls\, demolition derbies\, livestock shows\, entertainment on eight stages\, pageants\, historic village and much more! You can't see it all in 1 visit!
X-ALT-DESC;FMTTYPE=text/html:TEN days of great family fun! Enjoy carnival rides\, exhibits\, competitions\, tractor pulls\, demolition derbies\, livestock shows\, entertainment on eight stages\, pageants\, historic village and much more! You can&rsquo\;t see it all in 1 visit!
LOCATION:945 E. Baddour Parkway Lebanon\, TN 37087
UID:e.2544.9025
SEQUENCE:3
DTSTAMP:20260424T182006Z
URL:https://business.mjchamber.org/events/details/wilson-county-fair-08-12-2021-9025
END:VEVENT

END:VCALENDAR
